BEGIN:VCALENDAR
VERSION:2.0
PRODID:cabaretvoltaire.ch
BEGIN:VEVENT
UID:69e89d0a075e4
DTSTART:20201001T220000Z
SEQUENCE:0
TRANSP:OPAQUE
DTEND:20210430T215959Z
URL:https://cabaretvoltaire.ch/#node-1149-de
LOCATION:Cabaret Voltaire
SUMMARY:Agnes Scherer\, «The Teacher»
CLASS:PUBLIC
DTSTAMP:20260422T100354Z
END:VEVENT
END:VCALENDAR