BEGIN:VCALENDAR
VERSION:2.0
PRODID:cabaretvoltaire.ch
BEGIN:VEVENT
UID:69ecb9f72406f
DTSTART:20250129T180000Z
SEQUENCE:0
TRANSP:OPAQUE
DTEND:20250129T225959Z
URL:https://cabaretvoltaire.ch/#node-114548-de
LOCATION:Cabaret Voltaire
SUMMARY:«dears\, write»
CLASS:PUBLIC
DTSTAMP:20260425T125623Z
END:VEVENT
END:VCALENDAR