BEGIN:VCALENDAR
VERSION:2.0
PRODID:cabaretvoltaire.ch
BEGIN:VEVENT
UID:69eb5cc735cab
DTSTART:20250115T170000Z
SEQUENCE:0
TRANSP:OPAQUE
DTEND:20250115T225959Z
URL:https://cabaretvoltaire.ch/#node-114106-de
LOCATION:Cabaret Voltaire
SUMMARY:«The Psychedelic Salon» mit Jeremy Narby
CLASS:PUBLIC
DTSTAMP:20260424T120631Z
END:VEVENT
END:VCALENDAR