BEGIN:VCALENDAR
VERSION:2.0
PRODID:cabaretvoltaire.ch
BEGIN:VEVENT
UID:69ecb9626bf9e
DTSTART:20241218T180000Z
SEQUENCE:0
TRANSP:OPAQUE
DTEND:20241218T225959Z
URL:https://cabaretvoltaire.ch/#node-112171-de
LOCATION:Cabaret Voltaire
SUMMARY:Denkbilder #55 Vernissage und Lesung
CLASS:PUBLIC
DTSTAMP:20260425T125354Z
END:VEVENT
END:VCALENDAR