BEGIN:VCALENDAR
VERSION:2.0
PRODID:cabaretvoltaire.ch
BEGIN:VEVENT
UID:69e8364c5f9ae
DTSTART:20200923T120000Z
SEQUENCE:0
TRANSP:OPAQUE
DTEND:20200923T150000Z
URL:https://cabaretvoltaire.ch/#node-11089-en
LOCATION:Cabaret Voltaire
SUMMARY:Rory Pilgrim: Workshop and Showing Software Garden (Fleshy Interfac
 e)
CLASS:PUBLIC
DTSTAMP:20260422T024532Z
END:VEVENT
END:VCALENDAR