BEGIN:VCALENDAR
VERSION:2.0
PRODID:cabaretvoltaire.ch
BEGIN:VEVENT
UID:69e83508ebe43
DTSTART:20200922T220000Z
SEQUENCE:0
TRANSP:OPAQUE
DTEND:20200926T215959Z
URL:https://cabaretvoltaire.ch/#node-11089-de
LOCATION:Cabaret Voltaire
SUMMARY:Rory Pilgrim: Workshop und Showing Software Garden (Fleshy Interfac
 e)
CLASS:PUBLIC
DTSTAMP:20260422T024008Z
END:VEVENT
END:VCALENDAR