BEGIN:VCALENDAR
VERSION:2.0
PRODID:cabaretvoltaire.ch
BEGIN:VEVENT
UID:69ecb99fb841d
DTSTART:20241029T180000Z
SEQUENCE:0
TRANSP:OPAQUE
DTEND:20241029T225959Z
URL:https://cabaretvoltaire.ch/#node-110748-de
LOCATION:Cabaret Voltaire
SUMMARY:«Affirmative Sabotage» – ein Round Table in Kooperation mit Mig
 ros Museum für Gegenwartskunst und Theater Neumarkt
CLASS:PUBLIC
DTSTAMP:20260425T125455Z
END:VEVENT
END:VCALENDAR