BEGIN:VCALENDAR
VERSION:2.0
PRODID:cabaretvoltaire.ch
BEGIN:VEVENT
UID:69ecbaf6410c7
DTSTART:20240907T120000Z
SEQUENCE:0
TRANSP:OPAQUE
DTEND:20240907T000000Z
URL:https://cabaretvoltaire.ch/#node-110138-en
LOCATION:Cabaret Voltaire
SUMMARY:«B£E$$ED LEGAC¥ 2024 – In Honor of Lee Scratch Perry» during 
 Zurich’s LONG NIGHT of Museums 2024
CLASS:PUBLIC
DTSTAMP:20260425T130038Z
END:VEVENT
END:VCALENDAR