BEGIN:VCALENDAR
VERSION:2.0
PRODID:cabaretvoltaire.ch
BEGIN:VEVENT
UID:69eb5d722e391
DTSTART:20240907T120000Z
SEQUENCE:0
TRANSP:OPAQUE
DTEND:20240907T000000Z
URL:https://cabaretvoltaire.ch/#node-110138-de
LOCATION:Cabaret Voltaire
SUMMARY:«B£E$$ED LEGAC¥ 2024 – In Honor of Lee Scratch Perry» währen
 d der LANGEN NACHT der Zürcher Museen 2024
CLASS:PUBLIC
DTSTAMP:20260424T120922Z
END:VEVENT
END:VCALENDAR