BEGIN:VCALENDAR
VERSION:2.0
PRODID:cabaretvoltaire.ch
BEGIN:VEVENT
UID:69e89d0c5eaef
DTSTART:20240607T160000Z
SEQUENCE:0
TRANSP:OPAQUE
DTEND:20240607T163000Z
URL:https://cabaretvoltaire.ch/#node-102012-de
LOCATION:Cabaret Voltaire
SUMMARY:Zurich Art Weekend 2024: Führung durch die Ausstellung von Lee Scr
 atch Perry
CLASS:PUBLIC
DTSTAMP:20260422T100356Z
END:VEVENT
END:VCALENDAR