BEGIN:VCALENDAR
VERSION:2.0
PRODID:cabaretvoltaire.ch
BEGIN:VEVENT
UID:69e89e0dc06d4
DTSTART:20240411T220000Z
SEQUENCE:0
TRANSP:OPAQUE
DTEND:20240709T215959Z
URL:https://cabaretvoltaire.ch/#node-101458-de
LOCATION:Cabaret Voltaire
SUMMARY:Dada-Vitrine: Slot 9
CLASS:PUBLIC
DTSTAMP:20260422T100813Z
END:VEVENT
END:VCALENDAR