BEGIN:VCALENDAR
VERSION:2.0
PRODID:cabaretvoltaire.ch
BEGIN:VEVENT
UID:69eb228caa571
DTSTART:20240507T180000Z
SEQUENCE:0
TRANSP:OPAQUE
DTEND:20240507T215959Z
URL:https://cabaretvoltaire.ch/#node-101094-de
LOCATION:Cabaret Voltaire
SUMMARY:PRICE\, «A Repressed Repertoire (sequences)» mit Bonnie Banane\, 
 Alban Schelbert und Tiran Willemse
CLASS:PUBLIC
DTSTAMP:20260424T075804Z
END:VEVENT
END:VCALENDAR