BEGIN:VCALENDAR
VERSION:2.0
PRODID:cabaretvoltaire.ch
BEGIN:VEVENT
UID:69ecb96038769
DTSTART:20240403T180000Z
SEQUENCE:0
TRANSP:OPAQUE
DTEND:20240403T215959Z
URL:https://cabaretvoltaire.ch/#node-100880-de
LOCATION:Cabaret Voltaire
SUMMARY:«Einfach Zürich – Aber ganz schön schwierig. Das Züri-Quiz mi
 t Thomas Wyss»
CLASS:PUBLIC
DTSTAMP:20260425T125352Z
END:VEVENT
END:VCALENDAR