BEGIN:VCALENDAR
VERSION:2.0
PRODID:cabaretvoltaire.ch
BEGIN:VEVENT
UID:69eb5d58b9a42
DTSTART:20240408T170000Z
SEQUENCE:0
TRANSP:OPAQUE
DTEND:20240408T215959Z
URL:https://cabaretvoltaire.ch/#node-100112-de
LOCATION:Cabaret Voltaire
SUMMARY:Bilder könnten alles bedeuten – Eine Lesung aus Texten Harun Far
 ockis
CLASS:PUBLIC
DTSTAMP:20260424T120856Z
END:VEVENT
END:VCALENDAR